BEGIN:VCALENDAR
VERSION:2.0
PRODID:-//NLSLA - ECPv6.15.20//NONSGML v1.0//EN
CALSCALE:GREGORIAN
METHOD:PUBLISH
X-ORIGINAL-URL:https://nlsla.org
X-WR-CALDESC:Events for NLSLA
REFRESH-INTERVAL;VALUE=DURATION:PT1H
X-Robots-Tag:noindex
X-PUBLISHED-TTL:PT1H
BEGIN:VTIMEZONE
TZID:America/Los_Angeles
BEGIN:DAYLIGHT
TZOFFSETFROM:-0800
TZOFFSETTO:-0700
TZNAME:PDT
DTSTART:20230312T100000
END:DAYLIGHT
BEGIN:STANDARD
TZOFFSETFROM:-0700
TZOFFSETTO:-0800
TZNAME:PST
DTSTART:20231105T090000
END:STANDARD
BEGIN:DAYLIGHT
TZOFFSETFROM:-0800
TZOFFSETTO:-0700
TZNAME:PDT
DTSTART:20240310T100000
END:DAYLIGHT
BEGIN:STANDARD
TZOFFSETFROM:-0700
TZOFFSETTO:-0800
TZNAME:PST
DTSTART:20241103T090000
END:STANDARD
BEGIN:DAYLIGHT
TZOFFSETFROM:-0800
TZOFFSETTO:-0700
TZNAME:PDT
DTSTART:20250309T100000
END:DAYLIGHT
BEGIN:STANDARD
TZOFFSETFROM:-0700
TZOFFSETTO:-0800
TZNAME:PST
DTSTART:20251102T090000
END:STANDARD
BEGIN:DAYLIGHT
TZOFFSETFROM:-0800
TZOFFSETTO:-0700
TZNAME:PDT
DTSTART:20260308T100000
END:DAYLIGHT
BEGIN:STANDARD
TZOFFSETFROM:-0700
TZOFFSETTO:-0800
TZNAME:PST
DTSTART:20261101T090000
END:STANDARD
END:VTIMEZONE
BEGIN:VEVENT
DTSTART;TZID=America/Los_Angeles:20250611T153000
DTEND;TZID=America/Los_Angeles:20250611T183000
DTSTAMP:20260422T031512
CREATED:20241015T204653Z
LAST-MODIFIED:20241015T204653Z
UID:14076-1749655800-1749666600@nlsla.org
SUMMARY:Consumer Debt Legal Clinic
DESCRIPTION:We can assist with: \n\nDebt collectors\nIdentity theft\nCredit card debt lawsuits\n\nThe clinic can: \n\nTeach you about your consumer rights\nProvide resources\, referrals\, and/or legal advice\nAssist with understanding and completing court documents\n\nPLEASE SIGN UP HERE
URL:https://nlsla.org/event/consumer-debt-legal-clinic/2025-06-11/
LOCATION:Van Nuys Public Library – Community Room\, 6250 Sylmar Ave.\, Van Nuys\, CA\, 91401\, United States
CATEGORIES:Legal Clinics
ATTACH;FMTTYPE=image/png:https://nlsla.org/wp-content/uploads/2024/10/money-social-security.png
END:VEVENT
BEGIN:VEVENT
DTSTART;TZID=America/Los_Angeles:20250514T153000
DTEND;TZID=America/Los_Angeles:20250514T183000
DTSTAMP:20260422T031512
CREATED:20241015T204653Z
LAST-MODIFIED:20241015T204653Z
UID:14017-1747236600-1747247400@nlsla.org
SUMMARY:Consumer Debt Legal Clinic
DESCRIPTION:We can assist with: \n\nDebt collectors\nIdentity theft\nCredit card debt lawsuits\n\nThe clinic can: \n\nTeach you about your consumer rights\nProvide resources\, referrals\, and/or legal advice\nAssist with understanding and completing court documents\n\nPLEASE SIGN UP HERE
URL:https://nlsla.org/event/consumer-debt-legal-clinic/2025-05-14/
LOCATION:Van Nuys Public Library – Community Room\, 6250 Sylmar Ave.\, Van Nuys\, CA\, 91401\, United States
CATEGORIES:Legal Clinics
ATTACH;FMTTYPE=image/png:https://nlsla.org/wp-content/uploads/2024/10/money-social-security.png
END:VEVENT
BEGIN:VEVENT
DTSTART;TZID=America/Los_Angeles:20250409T153000
DTEND;TZID=America/Los_Angeles:20250409T183000
DTSTAMP:20260422T031512
CREATED:20241015T204653Z
LAST-MODIFIED:20241015T204653Z
UID:13961-1744212600-1744223400@nlsla.org
SUMMARY:Consumer Debt Legal Clinic
DESCRIPTION:We can assist with: \n\nDebt collectors\nIdentity theft\nCredit card debt lawsuits\n\nThe clinic can: \n\nTeach you about your consumer rights\nProvide resources\, referrals\, and/or legal advice\nAssist with understanding and completing court documents\n\nPLEASE SIGN UP HERE
URL:https://nlsla.org/event/consumer-debt-legal-clinic/2025-04-09/
LOCATION:Van Nuys Public Library – Community Room\, 6250 Sylmar Ave.\, Van Nuys\, CA\, 91401\, United States
CATEGORIES:Legal Clinics
ATTACH;FMTTYPE=image/png:https://nlsla.org/wp-content/uploads/2024/10/money-social-security.png
END:VEVENT
BEGIN:VEVENT
DTSTART;TZID=America/Los_Angeles:20250312T153000
DTEND;TZID=America/Los_Angeles:20250312T183000
DTSTAMP:20260422T031512
CREATED:20241015T204653Z
LAST-MODIFIED:20241015T204653Z
UID:13960-1741793400-1741804200@nlsla.org
SUMMARY:Consumer Debt Legal Clinic
DESCRIPTION:We can assist with: \n\nDebt collectors\nIdentity theft\nCredit card debt lawsuits\n\nThe clinic can: \n\nTeach you about your consumer rights\nProvide resources\, referrals\, and/or legal advice\nAssist with understanding and completing court documents\n\nPLEASE SIGN UP HERE
URL:https://nlsla.org/event/consumer-debt-legal-clinic/2025-03-12/
LOCATION:Van Nuys Public Library – Community Room\, 6250 Sylmar Ave.\, Van Nuys\, CA\, 91401\, United States
CATEGORIES:Legal Clinics
ATTACH;FMTTYPE=image/png:https://nlsla.org/wp-content/uploads/2024/10/money-social-security.png
END:VEVENT
BEGIN:VEVENT
DTSTART;TZID=America/Los_Angeles:20250212T153000
DTEND;TZID=America/Los_Angeles:20250212T183000
DTSTAMP:20260422T031512
CREATED:20241015T204653Z
LAST-MODIFIED:20241015T204653Z
UID:13959-1739374200-1739385000@nlsla.org
SUMMARY:Consumer Debt Legal Clinic
DESCRIPTION:We can assist with: \n\nDebt collectors\nIdentity theft\nCredit card debt lawsuits\n\nThe clinic can: \n\nTeach you about your consumer rights\nProvide resources\, referrals\, and/or legal advice\nAssist with understanding and completing court documents\n\nPLEASE SIGN UP HERE
URL:https://nlsla.org/event/consumer-debt-legal-clinic/2025-02-12/
LOCATION:Van Nuys Public Library – Community Room\, 6250 Sylmar Ave.\, Van Nuys\, CA\, 91401\, United States
CATEGORIES:Legal Clinics
ATTACH;FMTTYPE=image/png:https://nlsla.org/wp-content/uploads/2024/10/money-social-security.png
END:VEVENT
BEGIN:VEVENT
DTSTART;TZID=America/Los_Angeles:20250108T153000
DTEND;TZID=America/Los_Angeles:20250108T183000
DTSTAMP:20260422T031512
CREATED:20241015T204653Z
LAST-MODIFIED:20241015T204653Z
UID:13958-1736350200-1736361000@nlsla.org
SUMMARY:Consumer Debt Legal Clinic
DESCRIPTION:We can assist with: \n\nDebt collectors\nIdentity theft\nCredit card debt lawsuits\n\nThe clinic can: \n\nTeach you about your consumer rights\nProvide resources\, referrals\, and/or legal advice\nAssist with understanding and completing court documents\n\nPLEASE SIGN UP HERE
URL:https://nlsla.org/event/consumer-debt-legal-clinic/2025-01-08/
LOCATION:Van Nuys Public Library – Community Room\, 6250 Sylmar Ave.\, Van Nuys\, CA\, 91401\, United States
CATEGORIES:Legal Clinics
ATTACH;FMTTYPE=image/png:https://nlsla.org/wp-content/uploads/2024/10/money-social-security.png
END:VEVENT
BEGIN:VEVENT
DTSTART;TZID=America/Los_Angeles:20241211T153000
DTEND;TZID=America/Los_Angeles:20241211T183000
DTSTAMP:20260422T031512
CREATED:20241015T204653Z
LAST-MODIFIED:20241015T204653Z
UID:13957-1733931000-1733941800@nlsla.org
SUMMARY:Consumer Debt Legal Clinic
DESCRIPTION:We can assist with: \n\nDebt collectors\nIdentity theft\nCredit card debt lawsuits\n\nThe clinic can: \n\nTeach you about your consumer rights\nProvide resources\, referrals\, and/or legal advice\nAssist with understanding and completing court documents\n\nPLEASE SIGN UP HERE
URL:https://nlsla.org/event/consumer-debt-legal-clinic/2024-12-11/
LOCATION:Van Nuys Public Library – Community Room\, 6250 Sylmar Ave.\, Van Nuys\, CA\, 91401\, United States
CATEGORIES:Legal Clinics
ATTACH;FMTTYPE=image/png:https://nlsla.org/wp-content/uploads/2024/10/money-social-security.png
END:VEVENT
BEGIN:VEVENT
DTSTART;TZID=America/Los_Angeles:20241113T153000
DTEND;TZID=America/Los_Angeles:20241113T183000
DTSTAMP:20260422T031512
CREATED:20241015T204653Z
LAST-MODIFIED:20241015T204653Z
UID:13947-1731511800-1731522600@nlsla.org
SUMMARY:Consumer Debt Legal Clinic
DESCRIPTION:We can assist with: \n\nDebt collectors\nIdentity theft\nCredit card debt lawsuits\n\nThe clinic can: \n\nTeach you about your consumer rights\nProvide resources\, referrals\, and/or legal advice\nAssist with understanding and completing court documents\n\nPLEASE SIGN UP HERE
URL:https://nlsla.org/event/consumer-debt-legal-clinic/2024-11-13/
LOCATION:Van Nuys Public Library – Community Room\, 6250 Sylmar Ave.\, Van Nuys\, CA\, 91401\, United States
CATEGORIES:Legal Clinics
ATTACH;FMTTYPE=image/png:https://nlsla.org/wp-content/uploads/2024/10/money-social-security.png
END:VEVENT
END:VCALENDAR