BEGIN:VCALENDAR
VERSION:2.0
PRODID:-//NLSLA - ECPv6.15.20//NONSGML v1.0//EN
CALSCALE:GREGORIAN
METHOD:PUBLISH
X-WR-CALNAME:NLSLA
X-ORIGINAL-URL:https://nlsla.org
X-WR-CALDESC:Events for NLSLA
REFRESH-INTERVAL;VALUE=DURATION:PT1H
X-Robots-Tag:noindex
X-PUBLISHED-TTL:PT1H
BEGIN:VTIMEZONE
TZID:America/Los_Angeles
BEGIN:DAYLIGHT
TZOFFSETFROM:-0800
TZOFFSETTO:-0700
TZNAME:PDT
DTSTART:20200308T100000
END:DAYLIGHT
BEGIN:STANDARD
TZOFFSETFROM:-0700
TZOFFSETTO:-0800
TZNAME:PST
DTSTART:20201101T090000
END:STANDARD
BEGIN:DAYLIGHT
TZOFFSETFROM:-0800
TZOFFSETTO:-0700
TZNAME:PDT
DTSTART:20210314T100000
END:DAYLIGHT
BEGIN:STANDARD
TZOFFSETFROM:-0700
TZOFFSETTO:-0800
TZNAME:PST
DTSTART:20211107T090000
END:STANDARD
BEGIN:DAYLIGHT
TZOFFSETFROM:-0800
TZOFFSETTO:-0700
TZNAME:PDT
DTSTART:20220313T100000
END:DAYLIGHT
BEGIN:STANDARD
TZOFFSETFROM:-0700
TZOFFSETTO:-0800
TZNAME:PST
DTSTART:20221106T090000
END:STANDARD
BEGIN:DAYLIGHT
TZOFFSETFROM:-0800
TZOFFSETTO:-0700
TZNAME:PDT
DTSTART:20230312T100000
END:DAYLIGHT
BEGIN:STANDARD
TZOFFSETFROM:-0700
TZOFFSETTO:-0800
TZNAME:PST
DTSTART:20231105T090000
END:STANDARD
END:VTIMEZONE
BEGIN:VEVENT
DTSTART;TZID=America/Los_Angeles:20221016T140000
DTEND;TZID=America/Los_Angeles:20221016T170000
DTSTAMP:20260421T070427
CREATED:20220718T220340Z
LAST-MODIFIED:20240229T005510Z
UID:10624-1665928800-1665939600@nlsla.org
SUMMARY:Just Neighbors 2022
DESCRIPTION:Honorees:\n\nThe Honorable Andi Mudryk\nJudge\, Sacramento County Superior Court\nTrailblazer Award \n\nFred Nakamura\nAssociate Director of Litigation & Policy Advocacy\nLegal Excellence Award \n\nWe are grateful for our amazing sponsors!
URL:https://nlsla.org/event/justneighbors2022/
LOCATION:Skirball Cultural Center\, 2701 N Sepulveda Blvd.\, Los Angeles\, CA\, 90049\, United States
CATEGORIES:Fundraising Events
ATTACH;FMTTYPE=image/png:https://nlsla.org/wp-content/uploads/2022/07/JN-2022-email-header.png
ORGANIZER;CN="NLSLA":MAILTO:development@nlsla.org
END:VEVENT
BEGIN:VEVENT
DTSTART;TZID=America/Los_Angeles:20211017T140000
DTEND;TZID=America/Los_Angeles:20211017T170000
DTSTAMP:20260421T070427
CREATED:20200202T222723Z
LAST-MODIFIED:20211025T213620Z
UID:3653-1634479200-1634490000@nlsla.org
SUMMARY:Just Neighbors 2021
DESCRIPTION:
URL:https://nlsla.org/event/just-neighbors-2021/
LOCATION:Skirball Cultural Center\, 2701 N Sepulveda Blvd.\, Los Angeles\, CA\, 90049\, United States
CATEGORIES:Fundraising Events
ATTACH;FMTTYPE=image/jpeg:https://nlsla.org/wp-content/uploads/2021/10/Yvonne-Neal-Paul-Barbara-scaled.jpg
ORGANIZER;CN="NLSLA":MAILTO:development@nlsla.org
END:VEVENT
END:VCALENDAR