BEGIN:VCALENDAR
VERSION:2.0
PRODID:-//NLSLA - ECPv6.15.20//NONSGML v1.0//EN
CALSCALE:GREGORIAN
METHOD:PUBLISH
X-WR-CALNAME:NLSLA
X-ORIGINAL-URL:https://nlsla.org
X-WR-CALDESC:Events for NLSLA
REFRESH-INTERVAL;VALUE=DURATION:PT1H
X-Robots-Tag:noindex
X-PUBLISHED-TTL:PT1H
BEGIN:VTIMEZONE
TZID:America/Los_Angeles
BEGIN:DAYLIGHT
TZOFFSETFROM:-0800
TZOFFSETTO:-0700
TZNAME:PDT
DTSTART:20250309T100000
END:DAYLIGHT
BEGIN:STANDARD
TZOFFSETFROM:-0700
TZOFFSETTO:-0800
TZNAME:PST
DTSTART:20251102T090000
END:STANDARD
BEGIN:DAYLIGHT
TZOFFSETFROM:-0800
TZOFFSETTO:-0700
TZNAME:PDT
DTSTART:20260308T100000
END:DAYLIGHT
BEGIN:STANDARD
TZOFFSETFROM:-0700
TZOFFSETTO:-0800
TZNAME:PST
DTSTART:20261101T090000
END:STANDARD
BEGIN:DAYLIGHT
TZOFFSETFROM:-0800
TZOFFSETTO:-0700
TZNAME:PDT
DTSTART:20270314T100000
END:DAYLIGHT
BEGIN:STANDARD
TZOFFSETFROM:-0700
TZOFFSETTO:-0800
TZNAME:PST
DTSTART:20271107T090000
END:STANDARD
END:VTIMEZONE
BEGIN:VEVENT
DTSTART;TZID=America/Los_Angeles:20260807T180000
DTEND;TZID=America/Los_Angeles:20260807T220000
DTSTAMP:20260425T052357
CREATED:20260408T190101Z
LAST-MODIFIED:20260410T233514Z
UID:19114-1786125600-1786140000@nlsla.org
SUMMARY:Music for Justice 2026
DESCRIPTION:Join us at Music for Justice\, an inspiring and fun evening of music inspired by communities across LA\, grounded in this year’s theme:\nHope Has a Name: Community \nHope shows up every day in the strength of our communities — in neighbors supporting one another\, in advocates standing up for justice\, and in individuals and families working toward stability in the face of real challenges. At Neighborhood Legal Services of Los Angeles County\, we see this hope firsthand. \nMusic for Justice is a celebration of that collective power. \nEnjoy an unforgettable evening featuring live music\, dancing\, and recognition that celebrate the power of community and collective impact. Hundreds of NLSLA’s supporters from law firms\, businesses\, and the community will come together to champion NLSLA’s mission in advancing equity and justice in Los Angeles County. Your support helps ensure that those most in need are not alone and that they have advocates\, resources\, and a community standing with them. \nDon’t miss your chance to join us in celebration!
URL:https://nlsla.org/event/music-for-justice-2026/
LOCATION:LA Plaza de Cultura y Artes\, 501 N Main St\, Los Angeles\, CA\, 90012\, United States
CATEGORIES:Fundraising Events
ATTACH;FMTTYPE=image/png:https://nlsla.org/wp-content/uploads/2026/04/socialgraphic.png
ORGANIZER;CN="NLSLA":MAILTO:development@nlsla.org
END:VEVENT
END:VCALENDAR