BEGIN:VCALENDAR
VERSION:2.0
PRODID:-//NLSLA - ECPv6.15.20//NONSGML v1.0//EN
CALSCALE:GREGORIAN
METHOD:PUBLISH
X-ORIGINAL-URL:https://nlsla.org
X-WR-CALDESC:Events for NLSLA
REFRESH-INTERVAL;VALUE=DURATION:PT1H
X-Robots-Tag:noindex
X-PUBLISHED-TTL:PT1H
BEGIN:VTIMEZONE
TZID:America/Los_Angeles
BEGIN:DAYLIGHT
TZOFFSETFROM:-0800
TZOFFSETTO:-0700
TZNAME:PDT
DTSTART:20240310T100000
END:DAYLIGHT
BEGIN:STANDARD
TZOFFSETFROM:-0700
TZOFFSETTO:-0800
TZNAME:PST
DTSTART:20241103T090000
END:STANDARD
BEGIN:DAYLIGHT
TZOFFSETFROM:-0800
TZOFFSETTO:-0700
TZNAME:PDT
DTSTART:20250309T100000
END:DAYLIGHT
BEGIN:STANDARD
TZOFFSETFROM:-0700
TZOFFSETTO:-0800
TZNAME:PST
DTSTART:20251102T090000
END:STANDARD
BEGIN:DAYLIGHT
TZOFFSETFROM:-0800
TZOFFSETTO:-0700
TZNAME:PDT
DTSTART:20260308T100000
END:DAYLIGHT
BEGIN:STANDARD
TZOFFSETFROM:-0700
TZOFFSETTO:-0800
TZNAME:PST
DTSTART:20261101T090000
END:STANDARD
END:VTIMEZONE
BEGIN:VEVENT
DTSTART;TZID=America/Los_Angeles:20251211T123000
DTEND;TZID=America/Los_Angeles:20251211T153000
DTSTAMP:20260424T012204
CREATED:20250220T192706Z
LAST-MODIFIED:20250220T192706Z
UID:17303-1765456200-1765467000@nlsla.org
SUMMARY:FEMA Advice and Appeals Clinic
DESCRIPTION:Help you can get: \n\nHelp with preparing an appeal of a FEMA denial\nUnderstand your rights to FEMA benefits\nGet counsel and advice on a FEMA issue\n\nClinic by appointment only \nYou can attend in person or choose to receive a phone call at your appointment time.\nPacific Oaks College\n45 W Eureka St\, Pasadena\, CA 91103 \nPlease call 1-800-433-6251 or fill out our online intake for an appointment.
URL:https://nlsla.org/event/fema-advice-and-appeals-clinic/2025-12-11/
LOCATION:Pacific Oaks College\, 45 Eureka Street\, Pasadena\, CA\, 91103\, United States
CATEGORIES:Disaster,Legal Clinics
ORGANIZER;CN="NLSLA":MAILTO:development@nlsla.org
END:VEVENT
BEGIN:VEVENT
DTSTART;TZID=America/Los_Angeles:20251113T123000
DTEND;TZID=America/Los_Angeles:20251113T153000
DTSTAMP:20260424T012204
CREATED:20250220T192706Z
LAST-MODIFIED:20251031T190632Z
UID:16258-1763037000-1763047800@nlsla.org
SUMMARY:FEMA Advice and Appeals Clinic
DESCRIPTION:Help you can get: \n\nHelp with preparing an appeal of a FEMA denial\nUnderstand your rights to FEMA benefits\nGet counsel and advice on a FEMA issue\n\nClinic by appointment only \nYou can attend in person or choose to receive a phone call at your appointment time.\nPacific Oaks College\n45 W Eureka St\, Pasadena\, CA 91103 \nPlease call 1-800-433-6251 or fill out our online intake for an appointment.
URL:https://nlsla.org/event/fema-advice-and-appeals-clinic/2025-11-13/
LOCATION:Pacific Oaks College\, 45 Eureka Street\, Pasadena\, CA\, 91103\, United States
CATEGORIES:Disaster,Legal Clinics
ORGANIZER;CN="NLSLA":MAILTO:development@nlsla.org
END:VEVENT
BEGIN:VEVENT
DTSTART;TZID=America/Los_Angeles:20251023T123000
DTEND;TZID=America/Los_Angeles:20251023T153000
DTSTAMP:20260424T012204
CREATED:20250220T192706Z
LAST-MODIFIED:20251031T190632Z
UID:15191-1761222600-1761233400@nlsla.org
SUMMARY:FEMA Advice and Appeals Clinic
DESCRIPTION:Help you can get: \n\nHelp with preparing an appeal of a FEMA denial\nUnderstand your rights to FEMA benefits\nGet counsel and advice on a FEMA issue\n\nClinic by appointment only \nYou can attend in person or choose to receive a phone call at your appointment time.\nPacific Oaks College\n45 W Eureka St\, Pasadena\, CA 91103 \nPlease call 1-800-433-6251 or fill out our online intake for an appointment.
URL:https://nlsla.org/event/fema-advice-and-appeals-clinic/2025-10-23/
LOCATION:Pacific Oaks College\, 45 Eureka Street\, Pasadena\, CA\, 91103\, United States
CATEGORIES:Disaster,Legal Clinics
ORGANIZER;CN="NLSLA":MAILTO:development@nlsla.org
END:VEVENT
BEGIN:VEVENT
DTSTART;TZID=America/Los_Angeles:20251009T123000
DTEND;TZID=America/Los_Angeles:20251009T153000
DTSTAMP:20260424T012204
CREATED:20250220T192706Z
LAST-MODIFIED:20251031T190631Z
UID:15190-1760013000-1760023800@nlsla.org
SUMMARY:FEMA Advice and Appeals Clinic
DESCRIPTION:Help you can get: \n\nHelp with preparing an appeal of a FEMA denial\nUnderstand your rights to FEMA benefits\nGet counsel and advice on a FEMA issue\n\nClinic by appointment only \nYou can attend in person or choose to receive a phone call at your appointment time.\nPacific Oaks College\n45 W Eureka St\, Pasadena\, CA 91103 \nPlease call 1-800-433-6251 or fill out our online intake for an appointment.
URL:https://nlsla.org/event/fema-advice-and-appeals-clinic/2025-10-09/
LOCATION:Pacific Oaks College\, 45 Eureka Street\, Pasadena\, CA\, 91103\, United States
CATEGORIES:Disaster,Legal Clinics
ORGANIZER;CN="NLSLA":MAILTO:development@nlsla.org
END:VEVENT
BEGIN:VEVENT
DTSTART;TZID=America/Los_Angeles:20250925T123000
DTEND;TZID=America/Los_Angeles:20250925T153000
DTSTAMP:20260424T012204
CREATED:20250220T192706Z
LAST-MODIFIED:20251031T190631Z
UID:15177-1758803400-1758814200@nlsla.org
SUMMARY:FEMA Advice and Appeals Clinic
DESCRIPTION:Help you can get: \n\nHelp with preparing an appeal of a FEMA denial\nUnderstand your rights to FEMA benefits\nGet counsel and advice on a FEMA issue\n\nClinic by appointment only \nYou can attend in person or choose to receive a phone call at your appointment time.\nPacific Oaks College\n45 W Eureka St\, Pasadena\, CA 91103 \nPlease call 1-800-433-6251 or fill out our online intake for an appointment.
URL:https://nlsla.org/event/fema-advice-and-appeals-clinic/2025-09-25/
LOCATION:Pacific Oaks College\, 45 Eureka Street\, Pasadena\, CA\, 91103\, United States
CATEGORIES:Disaster,Legal Clinics
ORGANIZER;CN="NLSLA":MAILTO:development@nlsla.org
END:VEVENT
BEGIN:VEVENT
DTSTART;TZID=America/Los_Angeles:20250911T123000
DTEND;TZID=America/Los_Angeles:20250911T153000
DTSTAMP:20260424T012204
CREATED:20250220T192706Z
LAST-MODIFIED:20251031T190631Z
UID:15117-1757593800-1757604600@nlsla.org
SUMMARY:FEMA Advice and Appeals Clinic
DESCRIPTION:Help you can get: \n\nHelp with preparing an appeal of a FEMA denial\nUnderstand your rights to FEMA benefits\nGet counsel and advice on a FEMA issue\n\nClinic by appointment only \nYou can attend in person or choose to receive a phone call at your appointment time.\nPacific Oaks College\n45 W Eureka St\, Pasadena\, CA 91103 \nPlease call 1-800-433-6251 or fill out our online intake for an appointment.
URL:https://nlsla.org/event/fema-advice-and-appeals-clinic/2025-09-11/
LOCATION:Pacific Oaks College\, 45 Eureka Street\, Pasadena\, CA\, 91103\, United States
CATEGORIES:Disaster,Legal Clinics
ORGANIZER;CN="NLSLA":MAILTO:development@nlsla.org
END:VEVENT
BEGIN:VEVENT
DTSTART;TZID=America/Los_Angeles:20250828T123000
DTEND;TZID=America/Los_Angeles:20250828T153000
DTSTAMP:20260424T012204
CREATED:20250220T192706Z
LAST-MODIFIED:20251031T190628Z
UID:15068-1756384200-1756395000@nlsla.org
SUMMARY:FEMA Advice and Appeals Clinic
DESCRIPTION:Help you can get: \n\nHelp with preparing an appeal of a FEMA denial\nUnderstand your rights to FEMA benefits\nGet counsel and advice on a FEMA issue\n\nClinic by appointment only \nYou can attend in person or choose to receive a phone call at your appointment time.\nPacific Oaks College\n45 W Eureka St\, Pasadena\, CA 91103 \nPlease call 1-800-433-6251 or fill out our online intake for an appointment.
URL:https://nlsla.org/event/fema-advice-and-appeals-clinic/2025-08-28/
LOCATION:Pacific Oaks College\, 45 Eureka Street\, Pasadena\, CA\, 91103\, United States
CATEGORIES:Disaster,Legal Clinics
ORGANIZER;CN="NLSLA":MAILTO:development@nlsla.org
END:VEVENT
BEGIN:VEVENT
DTSTART;TZID=America/Los_Angeles:20250814T123000
DTEND;TZID=America/Los_Angeles:20250814T153000
DTSTAMP:20260424T012204
CREATED:20250220T192706Z
LAST-MODIFIED:20251031T190628Z
UID:15067-1755174600-1755185400@nlsla.org
SUMMARY:FEMA Advice and Appeals Clinic
DESCRIPTION:Help you can get: \n\nHelp with preparing an appeal of a FEMA denial\nUnderstand your rights to FEMA benefits\nGet counsel and advice on a FEMA issue\n\nClinic by appointment only \nYou can attend in person or choose to receive a phone call at your appointment time.\nPacific Oaks College\n45 W Eureka St\, Pasadena\, CA 91103 \nPlease call 1-800-433-6251 or fill out our online intake for an appointment.
URL:https://nlsla.org/event/fema-advice-and-appeals-clinic/2025-08-14/
LOCATION:Pacific Oaks College\, 45 Eureka Street\, Pasadena\, CA\, 91103\, United States
CATEGORIES:Disaster,Legal Clinics
ORGANIZER;CN="NLSLA":MAILTO:development@nlsla.org
END:VEVENT
BEGIN:VEVENT
DTSTART;TZID=America/Los_Angeles:20250724T123000
DTEND;TZID=America/Los_Angeles:20250724T153000
DTSTAMP:20260424T012204
CREATED:20250220T192706Z
LAST-MODIFIED:20251031T190627Z
UID:14925-1753360200-1753371000@nlsla.org
SUMMARY:FEMA Advice and Appeals Clinic
DESCRIPTION:Help you can get: \n\nHelp with preparing an appeal of a FEMA denial\nUnderstand your rights to FEMA benefits\nGet counsel and advice on a FEMA issue\n\nClinic by appointment only \nYou can attend in person or choose to receive a phone call at your appointment time.\nPacific Oaks College\n45 W Eureka St\, Pasadena\, CA 91103 \nPlease call 1-800-433-6251 or fill out our online intake for an appointment.
URL:https://nlsla.org/event/fema-advice-and-appeals-clinic/2025-07-24/
LOCATION:Pacific Oaks College\, 45 Eureka Street\, Pasadena\, CA\, 91103\, United States
CATEGORIES:Disaster,Legal Clinics
ORGANIZER;CN="NLSLA":MAILTO:development@nlsla.org
END:VEVENT
BEGIN:VEVENT
DTSTART;TZID=America/Los_Angeles:20250710T123000
DTEND;TZID=America/Los_Angeles:20250710T153000
DTSTAMP:20260424T012204
CREATED:20250220T192706Z
LAST-MODIFIED:20251031T190627Z
UID:14924-1752150600-1752161400@nlsla.org
SUMMARY:FEMA Advice and Appeals Clinic
DESCRIPTION:Help you can get: \n\nHelp with preparing an appeal of a FEMA denial\nUnderstand your rights to FEMA benefits\nGet counsel and advice on a FEMA issue\n\nClinic by appointment only \nYou can attend in person or choose to receive a phone call at your appointment time.\nPacific Oaks College\n45 W Eureka St\, Pasadena\, CA 91103 \nPlease call 1-800-433-6251 or fill out our online intake for an appointment.
URL:https://nlsla.org/event/fema-advice-and-appeals-clinic/2025-07-10/
LOCATION:Pacific Oaks College\, 45 Eureka Street\, Pasadena\, CA\, 91103\, United States
CATEGORIES:Disaster,Legal Clinics
ORGANIZER;CN="NLSLA":MAILTO:development@nlsla.org
END:VEVENT
BEGIN:VEVENT
DTSTART;TZID=America/Los_Angeles:20250626T123000
DTEND;TZID=America/Los_Angeles:20250626T153000
DTSTAMP:20260424T012204
CREATED:20250220T192706Z
LAST-MODIFIED:20251031T190627Z
UID:14862-1750941000-1750951800@nlsla.org
SUMMARY:FEMA Advice and Appeals Clinic
DESCRIPTION:Help you can get: \n\nHelp with preparing an appeal of a FEMA denial\nUnderstand your rights to FEMA benefits\nGet counsel and advice on a FEMA issue\n\nClinic by appointment only \nYou can attend in person or choose to receive a phone call at your appointment time.\nPacific Oaks College\n45 W Eureka St\, Pasadena\, CA 91103 \nPlease call 1-800-433-6251 or fill out our online intake for an appointment.
URL:https://nlsla.org/event/fema-advice-and-appeals-clinic/2025-06-26/
LOCATION:Pacific Oaks College\, 45 Eureka Street\, Pasadena\, CA\, 91103\, United States
CATEGORIES:Disaster,Legal Clinics
ORGANIZER;CN="NLSLA":MAILTO:development@nlsla.org
END:VEVENT
BEGIN:VEVENT
DTSTART;TZID=America/Los_Angeles:20250612T123000
DTEND;TZID=America/Los_Angeles:20250612T153000
DTSTAMP:20260424T012204
CREATED:20250220T192706Z
LAST-MODIFIED:20251031T190627Z
UID:14861-1749731400-1749742200@nlsla.org
SUMMARY:FEMA Advice and Appeals Clinic
DESCRIPTION:Help you can get: \n\nHelp with preparing an appeal of a FEMA denial\nUnderstand your rights to FEMA benefits\nGet counsel and advice on a FEMA issue\n\nClinic by appointment only \nYou can attend in person or choose to receive a phone call at your appointment time.\nPacific Oaks College\n45 W Eureka St\, Pasadena\, CA 91103 \nPlease call 1-800-433-6251 or fill out our online intake for an appointment.
URL:https://nlsla.org/event/fema-advice-and-appeals-clinic/2025-06-12/
LOCATION:Pacific Oaks College\, 45 Eureka Street\, Pasadena\, CA\, 91103\, United States
CATEGORIES:Disaster,Legal Clinics
ORGANIZER;CN="NLSLA":MAILTO:development@nlsla.org
END:VEVENT
BEGIN:VEVENT
DTSTART;TZID=America/Los_Angeles:20250522T123000
DTEND;TZID=America/Los_Angeles:20250522T153000
DTSTAMP:20260424T012204
CREATED:20250220T192706Z
LAST-MODIFIED:20251031T190627Z
UID:14794-1747917000-1747927800@nlsla.org
SUMMARY:FEMA Advice and Appeals Clinic
DESCRIPTION:Help you can get: \n\nHelp with preparing an appeal of a FEMA denial\nUnderstand your rights to FEMA benefits\nGet counsel and advice on a FEMA issue\n\nClinic by appointment only \nYou can attend in person or choose to receive a phone call at your appointment time.\nPacific Oaks College\n45 W Eureka St\, Pasadena\, CA 91103 \nPlease call 1-800-433-6251 or fill out our online intake for an appointment.
URL:https://nlsla.org/event/fema-advice-and-appeals-clinic/2025-05-22/
LOCATION:Pacific Oaks College\, 45 Eureka Street\, Pasadena\, CA\, 91103\, United States
CATEGORIES:Disaster,Legal Clinics
ORGANIZER;CN="NLSLA":MAILTO:development@nlsla.org
END:VEVENT
BEGIN:VEVENT
DTSTART;TZID=America/Los_Angeles:20250403T123000
DTEND;TZID=America/Los_Angeles:20250403T153000
DTSTAMP:20260424T012204
CREATED:20250220T192706Z
LAST-MODIFIED:20251031T190626Z
UID:14367-1743683400-1743694200@nlsla.org
SUMMARY:FEMA Advice and Appeals Clinic
DESCRIPTION:Help you can get: \n\nHelp with preparing an appeal of a FEMA denial\nUnderstand your rights to FEMA benefits\nGet counsel and advice on a FEMA issue\n\nClinic by appointment only \nYou can attend in person or choose to receive a phone call at your appointment time.\nPacific Oaks College\n45 W Eureka St\, Pasadena\, CA 91103 \nPlease call 1-800-433-6251 or fill out our online intake for an appointment.
URL:https://nlsla.org/event/fema-advice-and-appeals-clinic/2025-04-03/
LOCATION:Pacific Oaks College\, 45 Eureka Street\, Pasadena\, CA\, 91103\, United States
CATEGORIES:Disaster,Legal Clinics
ORGANIZER;CN="NLSLA":MAILTO:development@nlsla.org
END:VEVENT
BEGIN:VEVENT
DTSTART;TZID=America/Los_Angeles:20250320T123000
DTEND;TZID=America/Los_Angeles:20250320T153000
DTSTAMP:20260424T012204
CREATED:20250220T192706Z
LAST-MODIFIED:20251031T190626Z
UID:14366-1742473800-1742484600@nlsla.org
SUMMARY:FEMA Advice and Appeals Clinic
DESCRIPTION:Help you can get: \n\nHelp with preparing an appeal of a FEMA denial\nUnderstand your rights to FEMA benefits\nGet counsel and advice on a FEMA issue\n\nClinic by appointment only \nYou can attend in person or choose to receive a phone call at your appointment time.\nPacific Oaks College\n45 W Eureka St\, Pasadena\, CA 91103 \nPlease call 1-800-433-6251 or fill out our online intake for an appointment.
URL:https://nlsla.org/event/fema-advice-and-appeals-clinic/2025-03-20/
LOCATION:Pacific Oaks College\, 45 Eureka Street\, Pasadena\, CA\, 91103\, United States
CATEGORIES:Disaster,Legal Clinics
ORGANIZER;CN="NLSLA":MAILTO:development@nlsla.org
END:VEVENT
BEGIN:VEVENT
DTSTART;TZID=America/Los_Angeles:20250307T123000
DTEND;TZID=America/Los_Angeles:20250307T153000
DTSTAMP:20260424T012204
CREATED:20250220T192706Z
LAST-MODIFIED:20251031T190626Z
UID:14322-1741350600-1741361400@nlsla.org
SUMMARY:FEMA Advice and Appeals Clinic
DESCRIPTION:Help you can get: \n\nHelp with preparing an appeal of a FEMA denial\nUnderstand your rights to FEMA benefits\nGet counsel and advice on a FEMA issue\n\nClinic by appointment only \nYou can attend in person or choose to receive a phone call at your appointment time.\nPacific Oaks College\n45 W Eureka St\, Pasadena\, CA 91103 \nPlease call 1-800-433-6251 or fill out our online intake for an appointment.
URL:https://nlsla.org/event/fema-advice-and-appeals-clinic/2025-03-07/
LOCATION:Pacific Oaks College\, 45 Eureka Street\, Pasadena\, CA\, 91103\, United States
CATEGORIES:Disaster,Legal Clinics
ORGANIZER;CN="NLSLA":MAILTO:development@nlsla.org
END:VEVENT
END:VCALENDAR